Package: MSstatsShiny Version: 1.13.0 Command: /home/biocbuild/bbs-3.23-bioc/R/bin/R CMD INSTALL MSstatsShiny StartedAt: 2025-11-14 15:59:25 -0500 (Fri, 14 Nov 2025) EndedAt: 2025-11-14 15:59:56 -0500 (Fri, 14 Nov 2025) EllapsedTime: 30.8 seconds RetCode: 0 Status: OK