Package: MSstatsShiny Version: 1.13.0 Command: /home/biocbuild/bbs-3.23-bioc/R/bin/R CMD build --keep-empty-dirs --no-resave-data MSstatsShiny StartedAt: 2025-11-13 18:53:53 -0500 (Thu, 13 Nov 2025) EndedAt: 2025-11-13 18:54:37 -0500 (Thu, 13 Nov 2025) EllapsedTime: 44.0 seconds RetCode: 0 Status: OK PackageFile: MSstatsShiny_1.13.0.tar.gz PackageFileSize: 3.523 MiB