Package: MSstatsShiny Version: 1.13.0 Maintainer: Anthony Wu MaintainerEmail: wu.anthon at northeastern.edu git_url: https://git.bioconductor.org/packages/MSstatsShiny git_branch: devel git_last_commit: 3491ecd git_last_commit_date: 2025-10-29 11:20:02 -0500 (Wed, 29 Oct 2025)