Package: MSstatsResponse Version: 1.1.0 Command: /home/biocbuild/bbs-3.23-bioc/R/bin/R CMD INSTALL MSstatsResponse StartedAt: 2025-11-16 15:09:39 -0500 (Sun, 16 Nov 2025) EndedAt: 2025-11-16 15:09:53 -0500 (Sun, 16 Nov 2025) EllapsedTime: 13.1 seconds RetCode: 0 Status: OK