Package: MSstatsResponse Version: 1.1.0 Command: /home/biocbuild/bbs-3.23-bioc/R/bin/R CMD build --keep-empty-dirs --no-resave-data MSstatsResponse StartedAt: 2025-11-14 18:53:59 -0500 (Fri, 14 Nov 2025) EndedAt: 2025-11-14 18:55:03 -0500 (Fri, 14 Nov 2025) EllapsedTime: 64.1 seconds RetCode: 0 Status: OK PackageFile: MSstatsResponse_1.1.0.tar.gz PackageFileSize: 8.149 MiB