Package: MSstatsResponse Version: 1.1.0 Command: /Library/Frameworks/R.framework/Resources/bin/R CMD build --keep-empty-dirs --no-resave-data MSstatsResponse StartedAt: 2025-11-13 17:09:06 -0500 (Thu, 13 Nov 2025) EndedAt: 2025-11-13 17:09:32 -0500 (Thu, 13 Nov 2025) EllapsedTime: 25.3 seconds RetCode: 0 Status: OK PackageFile: MSstatsResponse_1.1.0.tar.gz PackageFileSize: 8.145 MiB