Package: MSstatsQCgui Version: 1.31.0 Command: /home/biocbuild/bbs-3.23-bioc/R/bin/R CMD build --keep-empty-dirs --no-resave-data MSstatsQCgui StartedAt: 2025-11-13 18:53:45 -0500 (Thu, 13 Nov 2025) EndedAt: 2025-11-13 18:54:25 -0500 (Thu, 13 Nov 2025) EllapsedTime: 40.1 seconds RetCode: 0 Status: OK PackageFile: MSstatsQCgui_1.31.0.tar.gz PackageFileSize: 75.48 KiB