Package: MSstatsQCgui Version: 1.31.0 Command: /Library/Frameworks/R.framework/Resources/bin/R CMD INSTALL MSstatsQCgui StartedAt: 2025-11-13 15:23:02 -0500 (Thu, 13 Nov 2025) EndedAt: 2025-11-13 15:23:18 -0500 (Thu, 13 Nov 2025) EllapsedTime: 15.6 seconds RetCode: 0 Status: OK