Package: MSstatsQCgui Version: 1.31.0 Command: /Library/Frameworks/R.framework/Resources/bin/R CMD build --keep-empty-dirs --no-resave-data MSstatsQCgui StartedAt: 2025-11-13 17:09:03 -0500 (Thu, 13 Nov 2025) EndedAt: 2025-11-13 17:09:21 -0500 (Thu, 13 Nov 2025) EllapsedTime: 18.2 seconds RetCode: 0 Status: OK PackageFile: MSstatsQCgui_1.31.0.tar.gz PackageFileSize: 75.38 KiB