Package: MSstatsQCgui Version: 1.31.0 Maintainer: Eralp Dogu MaintainerEmail: eralp.dogu at gmail.com git_url: https://git.bioconductor.org/packages/MSstatsQCgui git_branch: devel git_last_commit: 07cdccc git_last_commit_date: 2025-10-29 10:45:14 -0500 (Wed, 29 Oct 2025)