Package: MSstatsQC Version: 2.29.0 Command: /Library/Frameworks/R.framework/Resources/bin/R CMD INSTALL MSstatsQC StartedAt: 2025-11-13 15:21:21 -0500 (Thu, 13 Nov 2025) EndedAt: 2025-11-13 15:21:37 -0500 (Thu, 13 Nov 2025) EllapsedTime: 15.7 seconds RetCode: 0 Status: OK