Package: MSstatsQC Version: 2.29.0 Command: /Library/Frameworks/R.framework/Resources/bin/R CMD build --keep-empty-dirs --no-resave-data MSstatsQC StartedAt: 2025-11-13 17:09:00 -0500 (Thu, 13 Nov 2025) EndedAt: 2025-11-13 17:09:32 -0500 (Thu, 13 Nov 2025) EllapsedTime: 31.4 seconds RetCode: 0 Status: OK PackageFile: MSstatsQC_2.29.0.tar.gz PackageFileSize: 2.31 MiB