Package: MSstatsQC Version: 2.29.0 Maintainer: Eralp Dogu MaintainerEmail: eralp.dogu at gmail.com git_url: https://git.bioconductor.org/packages/MSstatsQC git_branch: devel git_last_commit: 1ad087d git_last_commit_date: 2025-10-29 10:41:00 -0500 (Wed, 29 Oct 2025)