Package: MSstatsPTM Version: 2.13.0 Command: /home/biocbuild/bbs-3.23-bioc/R/bin/R CMD INSTALL MSstatsPTM StartedAt: 2025-11-14 15:26:03 -0500 (Fri, 14 Nov 2025) EndedAt: 2025-11-14 15:26:29 -0500 (Fri, 14 Nov 2025) EllapsedTime: 26.6 seconds RetCode: 0 Status: OK