Package: MSstatsPTM Version: 2.13.0 Command: /home/biocbuild/bbs-3.23-bioc/R/bin/R CMD build --keep-empty-dirs --no-resave-data MSstatsPTM StartedAt: 2025-11-13 18:53:39 -0500 (Thu, 13 Nov 2025) EndedAt: 2025-11-13 18:54:51 -0500 (Thu, 13 Nov 2025) EllapsedTime: 72.1 seconds RetCode: 0 Status: OK PackageFile: MSstatsPTM_2.13.0.tar.gz PackageFileSize: 2.862 MiB