Package: MSstatsPTM Version: 2.13.0 Command: /Library/Frameworks/R.framework/Resources/bin/R CMD build --keep-empty-dirs --no-resave-data MSstatsPTM StartedAt: 2025-11-12 16:47:53 -0500 (Wed, 12 Nov 2025) EndedAt: 2025-11-12 16:48:21 -0500 (Wed, 12 Nov 2025) EllapsedTime: 28.4 seconds RetCode: 0 Status: OK PackageFile: MSstatsPTM_2.13.0.tar.gz PackageFileSize: 2.878 MiB