Package: MSstatsPTM Version: 2.13.0 Command: rm -rf MSstatsPTM.buildbin-libdir && mkdir MSstatsPTM.buildbin-libdir && /Users/biocbuild/BBS/utils/build-universal.sh MSstatsPTM_2.13.0.tar.gz /Library/Frameworks/R.framework/Resources/bin/R MSstatsPTM.buildbin-libdir StartedAt: 2025-11-13 23:47:26 -0500 (Thu, 13 Nov 2025) EndedAt: 2025-11-13 23:47:39 -0500 (Thu, 13 Nov 2025) EllapsedTime: 13.3 seconds RetCode: 0 Status: OK PackageFile: MSstatsPTM_2.13.0.tgz PackageFileSize: 3.315 MiB