Package: MSstatsLiP Version: 1.17.0 Command: /Library/Frameworks/R.framework/Resources/bin/R CMD INSTALL MSstatsLiP StartedAt: 2025-11-14 15:09:32 -0500 (Fri, 14 Nov 2025) EndedAt: 2025-11-14 15:09:41 -0500 (Fri, 14 Nov 2025) EllapsedTime: 9.2 seconds RetCode: 0 Status: OK