Package: MSstatsLiP Version: 1.17.0 Command: /Library/Frameworks/R.framework/Resources/bin/R CMD build --keep-empty-dirs --no-resave-data MSstatsLiP StartedAt: 2025-11-14 17:06:00 -0500 (Fri, 14 Nov 2025) EndedAt: 2025-11-14 17:06:24 -0500 (Fri, 14 Nov 2025) EllapsedTime: 23.2 seconds RetCode: 0 Status: OK PackageFile: MSstatsLiP_1.17.0.tar.gz PackageFileSize: 1.939 MiB