Package: MSstatsLOBD Version: 1.19.0 Command: /home/biocbuild/bbs-3.23-bioc/R/bin/R CMD INSTALL MSstatsLOBD StartedAt: 2025-11-11 15:12:27 -0500 (Tue, 11 Nov 2025) EndedAt: 2025-11-11 15:12:39 -0500 (Tue, 11 Nov 2025) EllapsedTime: 12.4 seconds RetCode: 0 Status: OK