Package: MSstatsLOBD Version: 1.19.0 Command: /home/biocbuild/bbs-3.23-bioc/R/bin/R CMD build --keep-empty-dirs --no-resave-data MSstatsLOBD StartedAt: 2025-11-11 18:57:38 -0500 (Tue, 11 Nov 2025) EndedAt: 2025-11-11 18:58:00 -0500 (Tue, 11 Nov 2025) EllapsedTime: 22.0 seconds RetCode: 0 Status: OK PackageFile: MSstatsLOBD_1.19.0.tar.gz PackageFileSize: 368.9 KiB