Package: MSstatsLOBD Version: 1.19.0 Command: /Library/Frameworks/R.framework/Resources/bin/R CMD INSTALL MSstatsLOBD StartedAt: 2025-11-13 15:04:53 -0500 (Thu, 13 Nov 2025) EndedAt: 2025-11-13 15:04:59 -0500 (Thu, 13 Nov 2025) EllapsedTime: 6.5 seconds RetCode: 0 Status: OK