Package: MSstatsLOBD Version: 1.19.0 Command: /Library/Frameworks/R.framework/Resources/bin/R CMD build --keep-empty-dirs --no-resave-data MSstatsLOBD StartedAt: 2025-11-13 17:08:59 -0500 (Thu, 13 Nov 2025) EndedAt: 2025-11-13 17:09:09 -0500 (Thu, 13 Nov 2025) EllapsedTime: 10.1 seconds RetCode: 0 Status: OK PackageFile: MSstatsLOBD_1.19.0.tar.gz PackageFileSize: 339.9 KiB