Package: MSstatsLOBD Version: 1.19.0 Maintainer: Devon Kohler MaintainerEmail: kohler.d at northeastern.edu git_url: https://git.bioconductor.org/packages/MSstatsLOBD git_branch: devel git_last_commit: 3747330 git_last_commit_date: 2025-10-29 11:09:52 -0500 (Wed, 29 Oct 2025)