Package: MSstatsConvert Version: 1.21.0 Command: /home/biocbuild/bbs-3.23-bioc/R/bin/R CMD INSTALL MSstatsConvert StartedAt: 2025-11-19 15:06:04 -0500 (Wed, 19 Nov 2025) EndedAt: 2025-11-19 15:06:25 -0500 (Wed, 19 Nov 2025) EllapsedTime: 21.2 seconds RetCode: 0 Status: OK