Package: MSstatsConvert Version: 1.21.0 Command: /Library/Frameworks/R.framework/Resources/bin/R CMD INSTALL MSstatsConvert StartedAt: 2025-11-14 15:02:10 -0500 (Fri, 14 Nov 2025) EndedAt: 2025-11-14 15:02:14 -0500 (Fri, 14 Nov 2025) EllapsedTime: 4.0 seconds RetCode: 0 Status: OK