Package: MSstatsConvert Version: 1.21.0 Command: rm -rf MSstatsConvert.buildbin-libdir && mkdir MSstatsConvert.buildbin-libdir && /Users/biocbuild/BBS/utils/build-universal.sh MSstatsConvert_1.21.0.tar.gz /Library/Frameworks/R.framework/Resources/bin/R MSstatsConvert.buildbin-libdir StartedAt: 2025-11-13 23:47:24 -0500 (Thu, 13 Nov 2025) EndedAt: 2025-11-13 23:47:31 -0500 (Thu, 13 Nov 2025) EllapsedTime: 7.1 seconds RetCode: 0 Status: OK PackageFile: MSstatsConvert_1.21.0.tgz PackageFileSize: 2.49 MiB