Package: MSstatsBioNet Version: 1.3.1 Command: /home/biocbuild/bbs-3.23-bioc/R/bin/R CMD INSTALL MSstatsBioNet StartedAt: 2025-11-11 16:02:23 -0500 (Tue, 11 Nov 2025) EndedAt: 2025-11-11 16:02:37 -0500 (Tue, 11 Nov 2025) EllapsedTime: 14.3 seconds RetCode: 0 Status: OK