Package: MSstatsBioNet Version: 1.3.1 Command: /Library/Frameworks/R.framework/Resources/bin/R CMD INSTALL MSstatsBioNet StartedAt: 2025-11-12 15:45:24 -0500 (Wed, 12 Nov 2025) EndedAt: 2025-11-12 15:45:30 -0500 (Wed, 12 Nov 2025) EllapsedTime: 6.3 seconds RetCode: 0 Status: OK