Package: MSstatsBioNet Version: 1.3.1 Command: /Library/Frameworks/R.framework/Resources/bin/R CMD check --install=check:MSstatsBioNet.install-out.txt --library=/Library/Frameworks/R.framework/Resources/library --no-vignettes --timings MSstatsBioNet_1.3.1.tar.gz StartedAt: 2025-11-14 21:13:35 -0500 (Fri, 14 Nov 2025) EndedAt: 2025-11-14 21:14:11 -0500 (Fri, 14 Nov 2025) EllapsedTime: 36.4 seconds RetCode: 0 Status: WARNINGS CheckDir: MSstatsBioNet.Rcheck Warnings: 1