Package: MSstatsBig Version: 1.9.0 Command: /Library/Frameworks/R.framework/Resources/bin/R CMD INSTALL MSstatsBig StartedAt: 2025-11-13 15:06:50 -0500 (Thu, 13 Nov 2025) EndedAt: 2025-11-13 15:06:55 -0500 (Thu, 13 Nov 2025) EllapsedTime: 5.0 seconds RetCode: 0 Status: OK