Package: MSstatsBig Version: 1.9.0 Command: /Library/Frameworks/R.framework/Resources/bin/R CMD build --keep-empty-dirs --no-resave-data MSstatsBig StartedAt: 2025-11-13 17:08:42 -0500 (Thu, 13 Nov 2025) EndedAt: 2025-11-13 17:08:51 -0500 (Thu, 13 Nov 2025) EllapsedTime: 9.1 seconds RetCode: 0 Status: OK PackageFile: MSstatsBig_1.9.0.tar.gz PackageFileSize: 70.15 KiB