Package: MSstatsBig Version: 1.9.0 Command: rm -rf MSstatsBig.buildbin-libdir && mkdir MSstatsBig.buildbin-libdir && /Users/biocbuild/BBS/utils/build-universal.sh MSstatsBig_1.9.0.tar.gz /Library/Frameworks/R.framework/Resources/bin/R MSstatsBig.buildbin-libdir StartedAt: 2025-11-13 23:47:19 -0500 (Thu, 13 Nov 2025) EndedAt: 2025-11-13 23:47:25 -0500 (Thu, 13 Nov 2025) EllapsedTime: 6.1 seconds RetCode: 0 Status: OK PackageFile: MSstatsBig_1.9.0.tgz PackageFileSize: 95.71 KiB