Package: MSstats Version: 4.19.0 Command: /home/biocbuild/bbs-3.23-bioc/R/bin/R CMD build --keep-empty-dirs --no-resave-data MSstats StartedAt: 2025-11-14 18:52:44 -0500 (Fri, 14 Nov 2025) EndedAt: 2025-11-14 18:53:59 -0500 (Fri, 14 Nov 2025) EllapsedTime: 75.1 seconds RetCode: 0 Status: OK PackageFile: MSstats_4.19.0.tar.gz PackageFileSize: 517.9 KiB