Package: MSstats Version: 4.19.0 Command: /Library/Frameworks/R.framework/Resources/bin/R CMD INSTALL MSstats StartedAt: 2025-11-13 15:06:34 -0500 (Thu, 13 Nov 2025) EndedAt: 2025-11-13 15:06:47 -0500 (Thu, 13 Nov 2025) EllapsedTime: 13.2 seconds RetCode: 0 Status: OK