Package: MSstats Version: 4.19.0 Command: /Library/Frameworks/R.framework/Resources/bin/R CMD build --keep-empty-dirs --no-resave-data MSstats StartedAt: 2025-11-13 17:08:25 -0500 (Thu, 13 Nov 2025) EndedAt: 2025-11-13 17:08:54 -0500 (Thu, 13 Nov 2025) EllapsedTime: 29.3 seconds RetCode: 0 Status: OK PackageFile: MSstats_4.19.0.tar.gz PackageFileSize: 579.8 KiB