Package: MSstats Version: 4.19.0 Command: rm -rf MSstats.buildbin-libdir && mkdir MSstats.buildbin-libdir && /Users/biocbuild/BBS/utils/build-universal.sh MSstats_4.19.0.tar.gz /Library/Frameworks/R.framework/Resources/bin/R MSstats.buildbin-libdir StartedAt: 2025-11-13 23:47:19 -0500 (Thu, 13 Nov 2025) EndedAt: 2025-11-13 23:47:36 -0500 (Thu, 13 Nov 2025) EllapsedTime: 17.4 seconds RetCode: 0 Status: OK PackageFile: MSstats_4.19.0.tgz PackageFileSize: 1.056 MiB