Package: MSstats Version: 4.19.0 Maintainer: Meena Choi MaintainerEmail: mnchoi67 at gmail.com git_url: https://git.bioconductor.org/packages/MSstats git_branch: devel git_last_commit: 5806648 git_last_commit_date: 2025-10-29 10:16:50 -0500 (Wed, 29 Oct 2025)