Package: MSnbase Version: 2.37.0 Command: /home/biocbuild/bbs-3.23-bioc/R/bin/R CMD INSTALL MSnbase StartedAt: 2025-11-11 15:39:43 -0500 (Tue, 11 Nov 2025) EndedAt: 2025-11-11 15:40:58 -0500 (Tue, 11 Nov 2025) EllapsedTime: 75.2 seconds RetCode: 0 Status: OK