Package: MSnbase Version: 2.37.0 Command: /Library/Frameworks/R.framework/Resources/bin/R CMD INSTALL MSnbase StartedAt: 2025-11-13 15:20:49 -0500 (Thu, 13 Nov 2025) EndedAt: 2025-11-13 15:21:17 -0500 (Thu, 13 Nov 2025) EllapsedTime: 28.0 seconds RetCode: 0 Status: OK