Package: MSnbase Version: 2.37.0 Command: /Library/Frameworks/R.framework/Resources/bin/R CMD build --keep-empty-dirs --no-resave-data MSnbase StartedAt: 2025-11-13 17:07:56 -0500 (Thu, 13 Nov 2025) EndedAt: 2025-11-13 17:09:20 -0500 (Thu, 13 Nov 2025) EllapsedTime: 83.9 seconds RetCode: 0 Status: OK PackageFile: MSnbase_2.37.0.tar.gz PackageFileSize: 7.486 MiB