Package: MSnbase Version: 2.37.0 Command: rm -rf MSnbase.buildbin-libdir && mkdir MSnbase.buildbin-libdir && /Users/biocbuild/BBS/utils/build-universal.sh MSnbase_2.37.0.tar.gz /Library/Frameworks/R.framework/Resources/bin/R MSnbase.buildbin-libdir StartedAt: 2025-11-13 23:47:08 -0500 (Thu, 13 Nov 2025) EndedAt: 2025-11-13 23:47:44 -0500 (Thu, 13 Nov 2025) EllapsedTime: 35.7 seconds RetCode: 0 Status: OK PackageFile: MSnbase_2.37.0.tgz PackageFileSize: 8.93 MiB