Package: MSnbase Version: 2.37.0 Maintainer: Laurent Gatto MaintainerEmail: laurent.gatto at uclouvain.be git_url: https://git.bioconductor.org/packages/MSnbase git_branch: devel git_last_commit: 3ca1ea4 git_last_commit_date: 2025-10-29 10:06:57 -0500 (Wed, 29 Oct 2025)