Package: MSPrep Version: 1.21.0 Command: /home/biocbuild/bbs-3.23-bioc/R/bin/R CMD INSTALL MSPrep StartedAt: 2025-11-11 16:02:54 -0500 (Tue, 11 Nov 2025) EndedAt: 2025-11-11 16:03:27 -0500 (Tue, 11 Nov 2025) EllapsedTime: 33.4 seconds RetCode: 0 Status: OK