Package: MSPrep Version: 1.21.0 Command: /home/biocbuild/bbs-3.23-bioc/R/bin/R CMD build --keep-empty-dirs --no-resave-data MSPrep StartedAt: 2025-11-11 18:56:12 -0500 (Tue, 11 Nov 2025) EndedAt: 2025-11-11 18:58:22 -0500 (Tue, 11 Nov 2025) EllapsedTime: 130.1 seconds RetCode: 0 Status: OK PackageFile: MSPrep_1.21.0.tar.gz PackageFileSize: 1.575 MiB