Package: MSPrep Version: 1.21.0 Command: /Library/Frameworks/R.framework/Resources/bin/R CMD INSTALL MSPrep StartedAt: 2025-11-12 15:45:44 -0500 (Wed, 12 Nov 2025) EndedAt: 2025-11-12 15:45:45 -0500 (Wed, 12 Nov 2025) EllapsedTime: 1.0 seconds RetCode: 1 Status: ERROR