Package: MSPrep Version: 1.21.0 Command: /Library/Frameworks/R.framework/Resources/bin/R CMD build --keep-empty-dirs --no-resave-data MSPrep StartedAt: 2025-11-12 16:47:22 -0500 (Wed, 12 Nov 2025) EndedAt: 2025-11-12 16:47:23 -0500 (Wed, 12 Nov 2025) EllapsedTime: 1.0 seconds RetCode: 1 Status: ERROR PackageFile: None PackageFileSize: NA