Package: MSPrep Version: 1.21.0 Maintainer: Max McGrath MaintainerEmail: max.mcgrath at ucdenver.edu git_url: https://git.bioconductor.org/packages/MSPrep git_branch: devel git_last_commit: e2ae0eb git_last_commit_date: 2025-10-29 11:02:54 -0500 (Wed, 29 Oct 2025)