Package: MSA2dist Version: 1.15.0 Command: /home/biocbuild/bbs-3.23-bioc/R/bin/R CMD INSTALL MSA2dist StartedAt: 2025-11-11 15:54:44 -0500 (Tue, 11 Nov 2025) EndedAt: 2025-11-11 15:55:50 -0500 (Tue, 11 Nov 2025) EllapsedTime: 66.2 seconds RetCode: 0 Status: OK