Package: MSA2dist Version: 1.15.0 Command: /Library/Frameworks/R.framework/Resources/bin/R CMD INSTALL MSA2dist StartedAt: 2025-11-13 15:28:44 -0500 (Thu, 13 Nov 2025) EndedAt: 2025-11-13 15:29:03 -0500 (Thu, 13 Nov 2025) EllapsedTime: 19.6 seconds RetCode: 0 Status: OK